

BEGIN:VCALENDAR
VERSION:2.0
PRODID:-//hacksw/handcal//NONSGML v1.0//EN
CALSCALE:GREGORIAN
BEGIN:VEVENT
DTEND:20191030T223000
UID:5e57e689cc55f
DTSTAMP:20200228T025553
LOCATION:Box Hill Town Hall 1022 Whitehorse Rd Box Hill 3128 VIC
DESCRIPTION:
URL;VALUE=URI:http://whitehorseartshow.com.au/event/40511
SUMMARY:Whitehorse Art Show Gala Opening Night Dinner
DTSTART:20191030T180000
END:VEVENT
END:VCALENDAR

